BEGIN:VCALENDAR
VERSION:2.0
PRODID:-//wise-meet.com - ECPv6.3.6//NONSGML v1.0//EN
CALSCALE:GREGORIAN
METHOD:PUBLISH
X-ORIGINAL-URL:https://wise-meet.com
X-WR-CALDESC:Eventos para wise-meet.com
REFRESH-INTERVAL;VALUE=DURATION:PT1H
X-Robots-Tag:noindex
X-PUBLISHED-TTL:PT1H
BEGIN:VTIMEZONE
TZID:America/Chicago
BEGIN:DAYLIGHT
TZOFFSETFROM:-0600
TZOFFSETTO:-0500
TZNAME:CDT
DTSTART:20180311T080000
END:DAYLIGHT
BEGIN:STANDARD
TZOFFSETFROM:-0500
TZOFFSETTO:-0600
TZNAME:CST
DTSTART:20181104T070000
END:STANDARD
BEGIN:DAYLIGHT
TZOFFSETFROM:-0600
TZOFFSETTO:-0500
TZNAME:CDT
DTSTART:20190310T080000
END:DAYLIGHT
BEGIN:STANDARD
TZOFFSETFROM:-0500
TZOFFSETTO:-0600
TZNAME:CST
DTSTART:20191103T070000
END:STANDARD
BEGIN:DAYLIGHT
TZOFFSETFROM:-0600
TZOFFSETTO:-0500
TZNAME:CDT
DTSTART:20200308T080000
END:DAYLIGHT
BEGIN:STANDARD
TZOFFSETFROM:-0500
TZOFFSETTO:-0600
TZNAME:CST
DTSTART:20201101T070000
END:STANDARD
BEGIN:DAYLIGHT
TZOFFSETFROM:-0600
TZOFFSETTO:-0500
TZNAME:CDT
DTSTART:20210314T080000
END:DAYLIGHT
BEGIN:STANDARD
TZOFFSETFROM:-0500
TZOFFSETTO:-0600
TZNAME:CST
DTSTART:20211107T070000
END:STANDARD
END:VTIMEZONE
BEGIN:VEVENT
DTSTART;TZID=America/Chicago:20180101T073000
DTEND;TZID=America/Chicago:20211202T113000
DTSTAMP:20260420T054154
CREATED:20160820T064743Z
LAST-MODIFIED:20160820T064743Z
UID:2233-1514791800-1638444600@wise-meet.com
SUMMARY:Organic Technology
DESCRIPTION:Donec id justo. Mauris turpis nunc\, blandit et\, volutpat molestie\, porta ut\, ligula. Sed a libero. Praesent adipiscing. Morbi vestibulum volutpat enim. Quisque id mi. Praesent congue erat at massa. Donec elit libero\, sodales nec\, volutpat a\, suscipit non\, turpis. Vestibulum ante ipsum primis in faucibus orci luctus et ultrices posuere cubilia Curae; In ac dui quis mi consectetuer lacinia. Pellentesque libero tortor\, tincidunt et\, tincidunt eget\, semper nec\, quam. \nPellentesque habitant morbi tristique senectus et netus et malesuada fames ac turpis egestas. Nullam quis ante. Curabitur blandit mollis lacus. Etiam vitae tortor. Pellentesque auctor neque nec urna. \nPhasellus gravida semper nisi. Donec mollis hendrerit risus. Vestibulum eu odio. Pellentesque ut neque. In ac felis quis tortor malesuada pretium.
URL:https://wise-meet.com/index.php/evento/organic-conference/
LOCATION:LA Stadium\, 2 King Street\, La\, United States
CATEGORIES:Expo,Fintech
ATTACH;FMTTYPE=image/jpeg:https://wise-meet.com/wp-content/uploads/2018/01/event_ticket_wordpress_theme_7.jpg
END:VEVENT
BEGIN:VEVENT
DTSTART;TZID=America/Chicago:20180101T190000
DTEND;TZID=America/Chicago:20210121T040000
DTSTAMP:20260420T054154
CREATED:20180111T174647Z
LAST-MODIFIED:20180111T174647Z
UID:3654-1514833200-1611201600@wise-meet.com
SUMMARY:Virtual Reality
DESCRIPTION:Curabitur non nulla sit amet nisl tempus convallis quis ac lectus. Praesent sapien massa\, convallis a pellentesque nec\, egestas non nisi. Curabitur aliquet quam id dui posuere blandit. Vestibulum ac diam sit amet quam vehicula elementum sed sit amet dui. \nDonec sollicitudin molestie malesuada. Sed porttitor lectus nibh. Curabitur arcu erat\, accumsan id imperdiet et\, porttitor at sem. Nulla quis lorem ut libero malesuada feugiat. \nCras ultricies ligula sed magna dictum porta. Donec sollicitudin molestie malesuada. Vestibulum ac diam sit amet quam vehicula elementum sed sit amet dui. Mauris blandit aliquet elit\, eget tincidunt nibh pulvinar a.
URL:https://wise-meet.com/index.php/evento/virtual-reality/
LOCATION:Big Hall\, 109 - 113 Shaftesbury Ave\, Soho\, London\, United Kingdom
CATEGORIES:Mobile,Startup
ATTACH;FMTTYPE=image/jpeg:https://wise-meet.com/wp-content/uploads/2018/01/event_ticket_wordpress_theme_1.jpg
END:VEVENT
END:VCALENDAR