BEGIN:VCALENDAR
VERSION:2.0
PRODID:-//wise-meet.com - ECPv6.3.6//NONSGML v1.0//EN
CALSCALE:GREGORIAN
METHOD:PUBLISH
X-ORIGINAL-URL:https://wise-meet.com
X-WR-CALDESC:Eventos para wise-meet.com
REFRESH-INTERVAL;VALUE=DURATION:PT1H
X-Robots-Tag:noindex
X-PUBLISHED-TTL:PT1H
BEGIN:VTIMEZONE
TZID:America/Chicago
BEGIN:DAYLIGHT
TZOFFSETFROM:-0600
TZOFFSETTO:-0500
TZNAME:CDT
DTSTART:20150308T080000
END:DAYLIGHT
BEGIN:STANDARD
TZOFFSETFROM:-0500
TZOFFSETTO:-0600
TZNAME:CST
DTSTART:20151101T070000
END:STANDARD
END:VTIMEZONE
BEGIN:VEVENT
DTSTART;TZID=America/Chicago:20150128T094500
DTEND;TZID=America/Chicago:20150128T134500
DTSTAMP:20260424T000609
CREATED:20160820T064747Z
LAST-MODIFIED:20160820T064747Z
UID:2286-1422438300-1422452700@wise-meet.com
SUMMARY:Widget Corp
DESCRIPTION:Curse your sudden but inevitable betrayal! How did your brain even learn human speech? I’ve been under fire before. Well … I’ve been in a fire. Actually\, I was fired. I can handle myself. Well\, my time of not taking you seriously is coming to a middle. You’re welcome on my boat. God ain’t. Also? I can kill you with my brain. Every man there go back inside or we will blow a new crater in this little moon. Ten percent of nothin’ is … let me do the math here … nothin’ into nothin’ … carry the nothin’ … Here lies my beloved Zoe\, my autumn flower … somewhat less attractive now that she’s all corpsified and gross. Oh\, I think you might wanna reconsider that last part. See\, I married me a powerful ugly creature.\nIt’s called ‘taking advantage.’ It’s what gets you ahead in life. Whoa\, this guy’s straight? \nOh\, I think you might wanna reconsider that last part. See\, I married me a powerful ugly creature. If anyone gets nosy\, just …you know … shoot ’em. Shoot ’em? Politely\, of course. You’re welcome on my boat. God ain’t. \nIt’s a hug\, Michael. I’m hugging you. I don’t understand the question\, and I won’t respond to it. There’s so many poorly chosen words in that sentence.
URL:https://wise-meet.com/index.php/evento/widget-corp/
CATEGORIES:Expo
ATTACH;FMTTYPE=image/jpeg:https://wise-meet.com/wp-content/uploads/2018/01/HNCK2634-1300x866-1.jpg
END:VEVENT
END:VCALENDAR