BEGIN:VCALENDAR
VERSION:2.0
PRODID:-//wise-meet.com - ECPv6.3.6//NONSGML v1.0//EN
CALSCALE:GREGORIAN
METHOD:PUBLISH
X-ORIGINAL-URL:https://wise-meet.com
X-WR-CALDESC:Eventos para wise-meet.com
REFRESH-INTERVAL;VALUE=DURATION:PT1H
X-Robots-Tag:noindex
X-PUBLISHED-TTL:PT1H
BEGIN:VTIMEZONE
TZID:America/Chicago
BEGIN:DAYLIGHT
TZOFFSETFROM:-0600
TZOFFSETTO:-0500
TZNAME:CDT
DTSTART:20140309T080000
END:DAYLIGHT
BEGIN:STANDARD
TZOFFSETFROM:-0500
TZOFFSETTO:-0600
TZNAME:CST
DTSTART:20141102T070000
END:STANDARD
END:VTIMEZONE
BEGIN:VEVENT
DTSTART;TZID=America/Chicago:20140719T044500
DTEND;TZID=America/Chicago:20140719T084500
DTSTAMP:20260424T092650
CREATED:20160820T064749Z
LAST-MODIFIED:20160820T064749Z
UID:2314-1405745100-1405759500@wise-meet.com
SUMMARY:GroupX Fitness
DESCRIPTION:Oh\, you’re gonna be in a coma\, all right. Say goodbye to these\, because it’s the last time! What’s Spanish for ‘I know you speak English?’ Bad news. Andy Griffith turned us down. He didn’t like his trailer. I don’t criticize you! And if you’re worried about criticism\, sometimes a diet is the best defense. Guy’s a pro. He’ll want to use your yacht\, and I don’t want this thing smelling like fish.\nWell\, my time of not taking you seriously is coming to a middle. Jayne\, your mouth is talking. You might wanna look to that. Here lies my beloved Zoe\, my autumn flower … somewhat less attractive now that she’s all corpsified and gross. Oh\, I think you might wanna reconsider that last part. See\, I married me a powerful ugly creature. I swear by my pretty floral bonnet\, I will end you. Someone ever tries to kill you\, you try to kill ’em right back! Psychic\, though? That sounds like something out of science fiction. We live in a spaceship\, dear. I cannot abide useless people. \nThere’s so many poorly chosen words in that sentence. There’s so many poorly chosen words in that sentence. We just call it a sausage.
URL:https://wise-meet.com/index.php/evento/mcglynn-bliss-pc/
CATEGORIES:Expo,Startup,Technology
ATTACH;FMTTYPE=image/jpeg:https://wise-meet.com/wp-content/uploads/2018/01/IMG_3725-1300x866-1.jpg
END:VEVENT
END:VCALENDAR